BEGIN:VCALENDAR
VERSION:2.0
PRODID:-//E³UDRES² Arena - ECPv6.15.20//NONSGML v1.0//EN
CALSCALE:GREGORIAN
METHOD:PUBLISH
X-WR-CALNAME:E³UDRES² Arena
X-ORIGINAL-URL:https://beta-arena.eudres.eu
X-WR-CALDESC:Events for E³UDRES² Arena
REFRESH-INTERVAL;VALUE=DURATION:PT1H
X-Robots-Tag:noindex
X-PUBLISHED-TTL:PT1H
BEGIN:VTIMEZONE
TZID:Europe/Brussels
BEGIN:DAYLIGHT
TZOFFSETFROM:+0100
TZOFFSETTO:+0200
TZNAME:CEST
DTSTART:20240331T010000
END:DAYLIGHT
BEGIN:STANDARD
TZOFFSETFROM:+0200
TZOFFSETTO:+0100
TZNAME:CET
DTSTART:20241027T010000
END:STANDARD
BEGIN:DAYLIGHT
TZOFFSETFROM:+0100
TZOFFSETTO:+0200
TZNAME:CEST
DTSTART:20250330T010000
END:DAYLIGHT
BEGIN:STANDARD
TZOFFSETFROM:+0200
TZOFFSETTO:+0100
TZNAME:CET
DTSTART:20251026T010000
END:STANDARD
BEGIN:DAYLIGHT
TZOFFSETFROM:+0100
TZOFFSETTO:+0200
TZNAME:CEST
DTSTART:20260329T010000
END:DAYLIGHT
BEGIN:STANDARD
TZOFFSETFROM:+0200
TZOFFSETTO:+0100
TZNAME:CET
DTSTART:20261025T010000
END:STANDARD
BEGIN:DAYLIGHT
TZOFFSETFROM:+0100
TZOFFSETTO:+0200
TZNAME:CEST
DTSTART:20270328T010000
END:DAYLIGHT
BEGIN:STANDARD
TZOFFSETFROM:+0200
TZOFFSETTO:+0100
TZNAME:CET
DTSTART:20271031T010000
END:STANDARD
BEGIN:DAYLIGHT
TZOFFSETFROM:+0100
TZOFFSETTO:+0200
TZNAME:CEST
DTSTART:20280326T010000
END:DAYLIGHT
BEGIN:STANDARD
TZOFFSETFROM:+0200
TZOFFSETTO:+0100
TZNAME:CET
DTSTART:20281029T010000
END:STANDARD
END:VTIMEZONE
BEGIN:VEVENT
DTSTART;VALUE=DATE:20250501
DTEND;VALUE=DATE:20280101
DTSTAMP:20260420T214454
CREATED:20260420T121345Z
LAST-MODIFIED:20260420T123052Z
UID:5602-1746057600-1830297599@beta-arena.eudres.eu
SUMMARY:Open Education course
DESCRIPTION:The Open Education Course\, developed part of E³UDRES² – Ent-r-e-novators ean overview of the principles and practices of Open Innovation. It develops participants’ understanding of collaborative innovation models\, innovation ecosystems\, networking strategies\, challenge-driven problem solving\, and the use of open data and citizen science as enablers of innovation. Participants also explore case studies from SMEs\, academia\, and civil society\, and learn to evaluate the impact of open innovation practices while anticipating risks and future trends. \n  \nCompetencies: \nAligned with the Digital Competence Framework (DigComp 2.2)\, this course contributes to Communication & Collaboration and Problem Solving competencies\, focusing on co-creation\, networking\, and responsible innovation practices. \nAdditionally\, aligned with the European Competence Framework for Researchers (ResearchComp)\, this course contributes to competencies such as Making an Impact (engage in collaborative innovation with multiple stakeholders)\, Working with Others (contribute to open and participatory innovation projects)\, Managing Research Tools (use data\, platforms\, and networks for innovation)\, and Taking Responsibility (apply ethics\, risk management\, and sustainability principles in open innovation). \n  \nOutcomes: On completion of this course\, participants will be able to: \nExplain the principles and models of Open Innovation. \nMap and navigate innovation ecosystems (startups\, incubators\, accelerators\, clusters\, hubs). \nIdentify and define real-world challenges and apply design thinking to generate solutions. \nAnalyse case studies of Open Innovation in SMEs\, academia\, and civil society. \nEvaluate the impact of open innovation on organisational performance and ecosystems. \nAnticipate and manage challenges\, risks\, and ethical considerations. \nReflect on future trends in Open Innovation\, including AI\, FAIR data\, and citizen science participation. \n  \nActivities: \nLearners engage with key resources and case studies\, practice challenge framing and ideation methods\, map innovation ecosystems\, analyse SME and research case studies\, contribute to peer discussions\, and complete quizzes. \n  \nTime to complete the course: \nThis course is designed for 13 hours of online learning activities\, finalised with a quizz and earns 0.5 ECTS credits. After you have completed all the activities\, you will be able to earn the badge\, issued as a micro-credential.
URL:https://beta-arena.eudres.eu/activity/open-education-course/
CATEGORIES:Micro-Credential
ATTACH;FMTTYPE=image/jpeg:https://beta-arena.eudres.eu/wp-content/uploads/2026/04/WhatsApp-Image-2026-04-20-at-3.00.54-PM-1.jpeg
END:VEVENT
END:VCALENDAR