BEGIN:VCALENDAR
VERSION:2.0
PRODID:-//E³UDRES² Arena - ECPv6.15.20//NONSGML v1.0//EN
CALSCALE:GREGORIAN
METHOD:PUBLISH
X-WR-CALNAME:E³UDRES² Arena
X-ORIGINAL-URL:https://beta-arena.eudres.eu
X-WR-CALDESC:Events for E³UDRES² Arena
REFRESH-INTERVAL;VALUE=DURATION:PT1H
X-Robots-Tag:noindex
X-PUBLISHED-TTL:PT1H
BEGIN:VTIMEZONE
TZID:Europe/Brussels
BEGIN:DAYLIGHT
TZOFFSETFROM:+0100
TZOFFSETTO:+0200
TZNAME:CEST
DTSTART:20240331T010000
END:DAYLIGHT
BEGIN:STANDARD
TZOFFSETFROM:+0200
TZOFFSETTO:+0100
TZNAME:CET
DTSTART:20241027T010000
END:STANDARD
BEGIN:DAYLIGHT
TZOFFSETFROM:+0100
TZOFFSETTO:+0200
TZNAME:CEST
DTSTART:20250330T010000
END:DAYLIGHT
BEGIN:STANDARD
TZOFFSETFROM:+0200
TZOFFSETTO:+0100
TZNAME:CET
DTSTART:20251026T010000
END:STANDARD
BEGIN:DAYLIGHT
TZOFFSETFROM:+0100
TZOFFSETTO:+0200
TZNAME:CEST
DTSTART:20260329T010000
END:DAYLIGHT
BEGIN:STANDARD
TZOFFSETFROM:+0200
TZOFFSETTO:+0100
TZNAME:CET
DTSTART:20261025T010000
END:STANDARD
BEGIN:DAYLIGHT
TZOFFSETFROM:+0100
TZOFFSETTO:+0200
TZNAME:CEST
DTSTART:20270328T010000
END:DAYLIGHT
BEGIN:STANDARD
TZOFFSETFROM:+0200
TZOFFSETTO:+0100
TZNAME:CET
DTSTART:20271031T010000
END:STANDARD
BEGIN:DAYLIGHT
TZOFFSETFROM:+0100
TZOFFSETTO:+0200
TZNAME:CEST
DTSTART:20280326T010000
END:DAYLIGHT
BEGIN:STANDARD
TZOFFSETFROM:+0200
TZOFFSETTO:+0100
TZNAME:CET
DTSTART:20281029T010000
END:STANDARD
END:VTIMEZONE
BEGIN:VEVENT
DTSTART;VALUE=DATE:20250501
DTEND;VALUE=DATE:20280101
DTSTAMP:20260420T214525
CREATED:20260420T105159Z
LAST-MODIFIED:20260420T153953Z
UID:10000030-1746057600-1830297599@beta-arena.eudres.eu
SUMMARY:Welcome to  E³UDRES²  Arena
DESCRIPTION:The Welcome to  E³UDRES²  Arena is an open\, accessible to all guide to  E³UDRES² ARENA as the federated digital platform for E³UDRES² European Universities Alliance. \nIt is available after Login in the E³UDRES²  LEARNING HUB  \nThe  E³UDRES²  LEARNING HUB is the digital learning system for the  E³UDRES²  activities\, It enables you to organise and participate in joint lectures\, courses\, iLiving Labs\, etc  and academic trainings while enhancing collaboration among all  E³UDRES²  members. \nYou can get started with the “How to Use ARENA” video – a quick introduction to the ARENA of  alliance. \nLearn what  E³UDRES²  Learning Hub is by how to navigate the platform\, access courses\, and explore its key features. You can find the Student Guide\, Academic & Staff Guide\, the E³UDRES²  Learning Hub tools\,  your requests for a new course/repository/activity in Learning Hub and submit your questions\, and get support.
URL:https://beta-arena.eudres.eu/activity/fesdf/
LOCATION:Online
CATEGORIES:Other,Staff Training
ATTACH;FMTTYPE=image/jpeg:https://beta-arena.eudres.eu/wp-content/uploads/2026/04/Grafica-Cursuri-EUDRES-07.jpg
END:VEVENT
BEGIN:VEVENT
DTSTART;VALUE=DATE:20260416
DTEND;VALUE=DATE:20260617
DTSTAMP:20260420T214525
CREATED:20260410T061915Z
LAST-MODIFIED:20260420T084333Z
UID:10000013-1776297600-1781654399@beta-arena.eudres.eu
SUMMARY:Speaking English for Staff (B2)
DESCRIPTION:Speaking English for Staff (B2)\n\nCourse Duration16 April – 16 June 2026 ECTSParticipation certificate available Level B2 Prior knowledge neededB1/B2 Application deadline25 March 2026  Participants (level B1 – B2) will be given a chance to present their speaking skills in discussions\, debates\, and conversations. Areas where improvement is needed will be identified in order to practice and improve them (i.e. grammar\, pronunciation\, intonation\, use of collocations\, and choice of vocabulary).  Further information & questionsFor further questions\, contact Sabine Kirschenhofer via e-mail. \nDate & Time:\n16 April 2026\n–\n16 June 2026 \nOrganizer\n\nFulda University of Applied Sciences \nVenue\nOnline\n \n\nOpen for\nE³UDRES² Staff\nOnline/On-site\nOnline\nDuration\n5+ days\nSemester\nSpring/Summer\nRecognition\nCertificate\nLanguage\nEnglish\n\nCategories:\nLanguage Course\n\n\nAdd to calendar \n  \n\nGoogle Calendar\niCalendar\nOutlook 365\nOutlook Live
URL:https://beta-arena.eudres.eu/activity/speaking-english-for-staff-b2/
LOCATION:Online
CATEGORIES:Language Course
ATTACH;FMTTYPE=image/jpeg:https://beta-arena.eudres.eu/wp-content/uploads/2026/04/240719-eudres-language-courses-announcement_01.jpg
END:VEVENT
BEGIN:VEVENT
DTSTART;VALUE=DATE:20260422
DTEND;VALUE=DATE:20260510
DTSTAMP:20260420T214525
CREATED:20260417T094808Z
LAST-MODIFIED:20260420T083356Z
UID:10000025-1776816000-1778371199@beta-arena.eudres.eu
SUMMARY:(German) Gemeinsam Lernen unter einem D-A-CH. Innovation in der Gesundheitsversorgung interprofessionell!
DESCRIPTION:
URL:https://beta-arena.eudres.eu/activity/german-gemeinsam-lernen-unter-einem-d-a-ch-innovation-in-der-gesundheitsversorgung-interprofessionell/
LOCATION:Online
CATEGORIES:Shared Lecture
ATTACH;FMTTYPE=image/jpeg:https://beta-arena.eudres.eu/wp-content/uploads/2026/03/default-activity-image-scaled.jpeg
END:VEVENT
BEGIN:VEVENT
DTSTART;VALUE=DATE:20260504
DTEND;VALUE=DATE:20260507
DTSTAMP:20260420T214525
CREATED:20260417T092219Z
LAST-MODIFIED:20260420T085627Z
UID:10000023-1777852800-1778111999@beta-arena.eudres.eu
SUMMARY:#IMM2026 Twin City Future Tech Bootcamp
DESCRIPTION:
URL:https://beta-arena.eudres.eu/activity/imm2026-twin-city-future-tech-bootcamp/
LOCATION:Online
CATEGORIES:Bootcamp
ATTACH;FMTTYPE=image/jpeg:https://beta-arena.eudres.eu/wp-content/uploads/2026/03/default-activity-image-scaled.jpeg
END:VEVENT
BEGIN:VEVENT
DTSTART;VALUE=DATE:20260504
DTEND;VALUE=DATE:20260626
DTSTAMP:20260420T214525
CREATED:20260417T095445Z
LAST-MODIFIED:20260419T141937Z
UID:10000026-1777852800-1782431999@beta-arena.eudres.eu
SUMMARY:IT Security Fundamentals
DESCRIPTION:
URL:https://beta-arena.eudres.eu/activity/it-security-fundamentals/
LOCATION:Online
CATEGORIES:Future Appetizer
ATTACH;FMTTYPE=image/jpeg:https://beta-arena.eudres.eu/wp-content/uploads/2026/03/default-activity-image-scaled.jpeg
END:VEVENT
BEGIN:VEVENT
DTSTART;TZID=Europe/Brussels:20260507T090000
DTEND;TZID=Europe/Brussels:20260507T160000
DTSTAMP:20260420T214525
CREATED:20260410T092636Z
LAST-MODIFIED:20260420T085840Z
UID:10000019-1778144400-1778169600@beta-arena.eudres.eu
SUMMARY:Social Work Science Day 2026
DESCRIPTION:This online event\, hosted by USTP – University of Applied Sciences St. Pölten\, aims to connect research\, practice & education. Participants are invited to explore how the ideas of Ilse Arlt can be rethought today through keynotes\, workshops and project presentations on social inclusion. Event held in German. \n  \nLearn more \nDate & Time:\n7 May 2026\n\,\n09:00\n–\n16:00\nCEST \nOrganizer\n\nUSTP – University of Applied Sciences St. Pölten \nVenue\nOnline\n \n\nOpen for\nE³UDRES² Students|E³UDRES² Staff|E³UDRES² Stakeholders|Associated Universities|Public\nOnline/On-site\nOnline\nDuration\n0.5 – 24 hours\nSemester\nSpring/Summer\nLanguage\nGerman\n\nCategories:\nOther\n\n\nAdd to calendar \n  \n\nGoogle Calendar\niCalendar\nOutlook 365\nOutlook Live
URL:https://beta-arena.eudres.eu/activity/social-work-science-day-2026/
LOCATION:Online
CATEGORIES:Other
ATTACH;FMTTYPE=image/jpeg:https://beta-arena.eudres.eu/wp-content/uploads/2026/03/campus-picture-stpuas.jpg
END:VEVENT
BEGIN:VEVENT
DTSTART;TZID=Europe/Brussels:20260508T110000
DTEND;TZID=Europe/Brussels:20260508T123000
DTSTAMP:20260420T214525
CREATED:20260410T091934Z
LAST-MODIFIED:20260420T085927Z
UID:10000018-1778238000-1778243400@beta-arena.eudres.eu
SUMMARY:FEMALE Friday Talks: Financial Empowerment
DESCRIPTION:The FEMALE Friday Talks is an international format that brings together women from across Europe to strengthen their financial literacy. Through expert insights and open discussions\, the series supports women in building confidence and taking proactive steps toward financial independence. This webinar focuses on financial empowerment. \n  \nLearn more \nDate & Time:\n8 May 2026\n\,\n11:00\n–\n12:30\nCEST \nOrganizer\n\nUSTP – University of Applied Sciences St. Pölten \nVenue\nOnline\n \n\nOpen for\nE³UDRES² Students|E³UDRES² Staff|E³UDRES² Stakeholders|Associated Universities|Public\nOnline/On-site\nOnline\nDuration\n0.5 – 24 hours\nSemester\nSpring/Summer\nLanguage\nEnglish\n\nCategories:\nOther\n\n\nAdd to calendar \n  \n\nGoogle Calendar\niCalendar\nOutlook 365\nOutlook Live
URL:https://beta-arena.eudres.eu/activity/female-friday-talks-financial-empowerment/
LOCATION:Online
CATEGORIES:Other
ATTACH;FMTTYPE=image/jpeg:https://beta-arena.eudres.eu/wp-content/uploads/2026/03/default-activity-image-scaled.jpeg
END:VEVENT
BEGIN:VEVENT
DTSTART;VALUE=DATE:20260513
DTEND;VALUE=DATE:20260625
DTSTAMP:20260420T214525
CREATED:20260410T091250Z
LAST-MODIFIED:20260420T090253Z
UID:10000017-1778630400-1782345599@beta-arena.eudres.eu
SUMMARY:Critical Thinking Through STEAM: Building Essencial Skills
DESCRIPTION:In a society increasingly driven toward the use of AI\, the importance of critical thinking is becoming ever greater\, as it is essential to ensure a well-informed\, fair\, and effective society in managing its resources. The development of critical thinking can be stimulated through active learning activities in the areas of STEAM (science\, technology\, engineering\, arts\, and mathematics)\, promoting the development of other transversal skills relevant to today’s job market\, such as teamwork\, effective communication\, problem-solving\, creativity\, and ethics. \nThis E³UDRES² Micro-Credential is a free 2 ECTS module offered for students from the E³UDRES² alliance. Students from all areas of study are welcome to enroll. \n  \nMore information & application \nDate & Time:\n13 May 2026\n–\n24 June 2026 \nOrganizer\n\nPolytechnic University of Setúbal \nVenue\nOnline\n \n\nOpen for\nE³UDRES² Students\nOnline/On-site\nOnline\nDuration\n5+ days\nSemester\nSpring/Summer\nRecognition\nECTS\nLanguage\nEnglish\n\nCategories:\nMicro-Credential\n\n\nAdd to calendar \n  \n\nGoogle Calendar\niCalendar\nOutlook 365\nOutlook Live
URL:https://beta-arena.eudres.eu/activity/critical-thinking-through-steam-building-essencial-skills/
LOCATION:Online
CATEGORIES:Micro-Credential
ATTACH;FMTTYPE=image/jpeg:https://beta-arena.eudres.eu/wp-content/uploads/2026/03/default-activity-image-scaled.jpeg
END:VEVENT
BEGIN:VEVENT
DTSTART;TZID=Europe/Brussels:20260603T110000
DTEND;TZID=Europe/Brussels:20260603T120000
DTSTAMP:20260420T214525
CREATED:20260417T092709Z
LAST-MODIFIED:20260420T090517Z
UID:10000024-1780484400-1780488000@beta-arena.eudres.eu
SUMMARY:Navigating EU Calls and Research Policy: A Webinar for PhD Candidates
DESCRIPTION:
URL:https://beta-arena.eudres.eu/activity/navigating-eu-calls-and-research-policy-a-webinar-for-phd-candidates/
LOCATION:Online
CATEGORIES:Research Activity
ATTACH;FMTTYPE=image/jpeg:https://beta-arena.eudres.eu/wp-content/uploads/2026/03/default-activity-image-scaled.jpeg
END:VEVENT
BEGIN:VEVENT
DTSTART;TZID=Europe/Brussels:20260608T180000
DTEND;TZID=Europe/Brussels:20260608T193000
DTSTAMP:20260420T214525
CREATED:20260410T081933Z
LAST-MODIFIED:20260420T090619Z
UID:10000014-1780941600-1780947000@beta-arena.eudres.eu
SUMMARY:Shaping Sustainable Futures: From Growth to Doughnut
DESCRIPTION:  \nApply here \nThis lecture critically explores the shift from GDP-centred growth to Doughnut Economics\, examining its foundations\, global relevance\, and implications for high-income countries. It encourages dialogue on redefining progress in alignment with equity and planetary boundaries. \nDetails\nCourse Content \n\nInitial perceptions of progress and development\nEconomic growth as the dominant paradigm\nHistorical trajectories of economic growth\nEmergence of new paradigms\nThe Doughnut model\nScientific and policy antecedents\nGlobal application of the model\nNational-level challenges\nFuture pathways for high-income countries\nDoughnut Economics in practice\nDiscussion and reflection\n\nTutors \nSandrina Berthault Moreira (collaboration with Cláudia Coelho – ESTB and Aldina Soares – ESTS) \nStudy Programme \nAccounting and Finance \nECTS \n0 \nContact hours \n1\,5 \nFull/partial course \nSingle lecture \nPrerequisites \nNone \nDate & Time:\n8 June 2026\n\,\n18:00\n–\n19:30\nCEST \nOrganizer\n\nPolytechnic University of Setúbal \nVenue\nOnline\n \n\nOpen for\nE³UDRES² Students|E³UDRES² Staff|E³UDRES² Stakeholders|Associated Universities|Public\nOnline/On-site\nHybrid\nDuration\n0.5 – 24 hours\nSemester\nSpring/Summer\nRecognition\nECTS\nLanguage\nEnglish\n\nCategories:\nShared Lecture\n\n\nAdd to calendar \n  \n\nGoogle Calendar\niCalendar\nOutlook 365\nOutlook Live\n\nFurther information\n\nTeaching methods\nLecture \n\n\nLearning outcomes\nBy the end of this lecture\, participants will be able to: \n\nExplain the historical evolution of economic growth paradigms\, including the central role and limitations of GDP as a measure of progress.\nDescribe the conceptual foundations of Doughnut Economics\, including the notions of planetary boundaries and social foundations.\nInterpret global and national economic and sustainability data in light of ecological constraints and social equity objectives.\nEngage in informed dialogue on sustainability and economic transformation\, demonstrating critical reasoning and interdisciplinary awareness.\n\n\n\nAssessment\nNone \n\n\nLiterature & Materials\nPowerpoint presentation provided by tutor. \n\nLecture \nBy the end of this lecture\, participants will be able to: \n\nExplain the historical evolution of economic growth paradigms\, including the central role and limitations of GDP as a measure of progress.\nDescribe the conceptual foundations of Doughnut Economics\, including the notions of planetary boundaries and social foundations.\nInterpret global and national economic and sustainability data in light of ecological constraints and social equity objectives.\nEngage in informed dialogue on sustainability and economic transformation\, demonstrating critical reasoning and interdisciplinary awareness.\n\nNone \nPowerpoint presentation provided by tutor. \n \nQuestions about this activity?\nSend an e-mail to the organizer to learn more. \n  \nSend e-mail
URL:https://beta-arena.eudres.eu/activity/shaping-sustainable-futures-from-growth-to-doughnut/
LOCATION:Online
CATEGORIES:Shared Lecture
ATTACH;FMTTYPE=image/jpeg:https://beta-arena.eudres.eu/wp-content/uploads/2026/03/default-activity-image-scaled.jpeg
END:VEVENT
END:VCALENDAR